BEGIN:VCALENDAR
VERSION:2.0
PRODID:-//Plone.org//NONSGML plone.app.event//EN
X-WR-TIMEZONE:Europe/Berlin
BEGIN:VEVENT
SUMMARY:Schuberth in Concert
DTSTART;VALUE=DATE-TIME:20091113T000000Z
DTEND;VALUE=DATE-TIME:20091113T000000Z
DTSTAMP;VALUE=DATE-TIME:20260424T133609Z
UID:33500a56393947b9983e73c47aff1360@141.84.11.5:9000
CREATED;VALUE=DATE-TIME:20091111T154656Z
DESCRIPTION:The band STROB with drummer Bernhard Schuberth will give a con
 cert on Friday 13th.
LAST-MODIFIED;VALUE=DATE-TIME:20091111T154656Z
LOCATION:Jugendkulturhaus "Route 66"\, Haar
URL:https://www.geophysik.uni-muenchen.de/en/news/events/schuberth-in-conc
 ert
END:VEVENT
END:VCALENDAR
