BEGIN:VCALENDAR
VERSION:2.0
PRODID:-//Plone.org//NONSGML plone.app.event//EN
X-WR-TIMEZONE:Europe/Berlin
BEGIN:VEVENT
SUMMARY:Master Thesis Defense by Hongyi Su
DTSTART;VALUE=DATE-TIME:20230118T170000Z
DTSTAMP;VALUE=DATE-TIME:20260426T022317Z
UID:b4193c187cf449afba683b3fb5d41d5c@141.84.11.5:9000
CONTACT:https://lmu-munich.zoom.us/meeting/register/tJMudOmppj4uG9GJ4IydUb
 CuVOXeXXSUg2qb
CREATED;VALUE=DATE-TIME:20230112T114150Z
DESCRIPTION:Today our master student Hongyi Su will defend his thesis.
LAST-MODIFIED;VALUE=DATE-TIME:20230113T085834Z
URL:https://www.geophysik.uni-muenchen.de/en/news/events/master-thesis-def
 ense-by-hongyi-su
END:VEVENT
END:VCALENDAR
