BEGIN:VCALENDAR
VERSION:2.0
PRODID:-//Plone.org//NONSGML plone.app.event//EN
X-WR-TIMEZONE:Europe/Berlin
BEGIN:VEVENT
SUMMARY:Master Geophysics: Semester Opening
DTSTART;TZID=Europe/Berlin;VALUE=DATE-TIME:20250423T083000
DTEND;TZID=Europe/Berlin;VALUE=DATE-TIME:20250423T093000
DTSTAMP;VALUE=DATE-TIME:20260421T033604Z
UID:3c321f093db64ded92c7b6c17a8d149e@141.84.11.5:9000
CONTACT:Marcus Mohr
CREATED;VALUE=DATE-TIME:20250326T115608Z
DESCRIPTION:Welcome event
LAST-MODIFIED;VALUE=DATE-TIME:20250326T115619Z
LOCATION:Theresienstrasse 41\, C 419
URL:https://www.geophysik.uni-muenchen.de/en/news/events/master-geophysics
 -semester-opening-4
END:VEVENT
BEGIN:VTIMEZONE
TZID:Europe/Berlin
X-LIC-LOCATION:Europe/Berlin
BEGIN:DAYLIGHT
DTSTART;VALUE=DATE-TIME:20250330T030000
TZNAME:CEST
TZOFFSETFROM:+0100
TZOFFSETTO:+0200
END:DAYLIGHT
END:VTIMEZONE
END:VCALENDAR
