BEGIN:VCALENDAR
VERSION:2.0
PRODID:-//Plone.org//NONSGML plone.app.event//EN
X-WR-TIMEZONE:Europe/Berlin
BEGIN:VEVENT
SUMMARY:Master Geophysics: Semester Opening
DTSTART;VALUE=DATE-TIME:20190423T090000Z
DTEND;VALUE=DATE-TIME:20190423T100000Z
DTSTAMP;VALUE=DATE-TIME:20260420T033001Z
UID:59a203ba7b244a9fb957a4a7862e83af@141.84.11.5:9000
CREATED;VALUE=DATE-TIME:20190417T101018Z
DESCRIPTION:Info meeting for students of the International Masters Program
 me in Geophysics.
LAST-MODIFIED;VALUE=DATE-TIME:20190417T101018Z
LOCATION:C419
URL:https://www.geophysik.uni-muenchen.de/en/news/events/master-geophysics
 -semester-opening-3
END:VEVENT
END:VCALENDAR
