BEGIN:VCALENDAR
VERSION:2.0
PRODID:-//Plone.org//NONSGML plone.app.event//EN
X-WR-TIMEZONE:Europe/Berlin
BEGIN:VEVENT
SUMMARY:Geophysik Weihnachtsfeier
DTSTART;VALUE=DATE-TIME:20121212T160000Z
DTEND;VALUE=DATE-TIME:20121212T220000Z
DTSTAMP;VALUE=DATE-TIME:20260419T192323Z
UID:59acfec5f58a4761b5ad25304fd66767@141.84.11.5:9000
CREATED;VALUE=DATE-TIME:20121205T111107Z
DESCRIPTION:Die Weihnachtsfeier der Sektion Geophysik findet dieses Jahr a
 m Mittwoch den 12. Dezember statt.
LAST-MODIFIED;VALUE=DATE-TIME:20121205T111107Z
LOCATION:C419
URL:https://www.geophysik.uni-muenchen.de/en/news/events/geophysik-weihnac
 htsfeier
END:VEVENT
END:VCALENDAR
